BEGIN:VCALENDAR
VERSION:2.0
PRODID:-//Tops México los Mejores Abogados - ECPv6.15.17.1//NONSGML v1.0//EN
CALSCALE:GREGORIAN
METHOD:PUBLISH
X-WR-CALNAME:Tops México los Mejores Abogados
X-ORIGINAL-URL:https://topslosmejoresabogados.com
X-WR-CALDESC:Eventos para Tops México los Mejores Abogados
REFRESH-INTERVAL;VALUE=DURATION:PT1H
X-Robots-Tag:noindex
X-PUBLISHED-TTL:PT1H
BEGIN:VTIMEZONE
TZID:America/Mexico_City
BEGIN:DAYLIGHT
TZOFFSETFROM:-0600
TZOFFSETTO:-0500
TZNAME:CDT
DTSTART:20200405T080000
END:DAYLIGHT
BEGIN:STANDARD
TZOFFSETFROM:-0500
TZOFFSETTO:-0600
TZNAME:CST
DTSTART:20201025T070000
END:STANDARD
BEGIN:DAYLIGHT
TZOFFSETFROM:-0600
TZOFFSETTO:-0500
TZNAME:CDT
DTSTART:20210404T080000
END:DAYLIGHT
BEGIN:STANDARD
TZOFFSETFROM:-0500
TZOFFSETTO:-0600
TZNAME:CST
DTSTART:20211031T070000
END:STANDARD
BEGIN:DAYLIGHT
TZOFFSETFROM:-0600
TZOFFSETTO:-0500
TZNAME:CDT
DTSTART:20220403T080000
END:DAYLIGHT
BEGIN:STANDARD
TZOFFSETFROM:-0500
TZOFFSETTO:-0600
TZNAME:CST
DTSTART:20221030T070000
END:STANDARD
END:VTIMEZONE
BEGIN:VEVENT
DTSTART;TZID=America/Mexico_City:20210212T080000
DTEND;TZID=America/Mexico_City:20210717T170000
DTSTAMP:20260420T074521
CREATED:20210119T173953Z
LAST-MODIFIED:20210119T173953Z
UID:8863-1613116800-1626541200@topslosmejoresabogados.com
SUMMARY:Diplomado en Derecho Corporativo
DESCRIPTION:Área: Derecho\nCoordinador:  JOSE MARIA MANZANILLA GALAVIZ \nInicia: 12-febrero-2021\nTermina: 17-julio-2021\nHorario: Viernes de 17:00 a 21:00 h. y Sábado de 09:00 a 13:00 h.\nMódulos a cursar: 6\nHoras: 144\nCosto de inscripción: $9\,900.00 pesos M.N\nCosto por módulo: $8\,900.00 pesos M.N\nNotas: LAS SESIONES SE LLEVARAN A CABO CON EL USO DE LA HERRAMIENTA ZOOM.\n\nAcerca del programa\nEl objetivo del Diplomado es proporcionar al participante una visión integral general de las corporaciones en México\, incluidas su constitución\, su operación y su control\, así como un acercamiento a las corporaciones en los E.U.A. Ofrecer las herramientas indispensables para un adecuado manejo del inglés jurídico. El Diplomado tendrá una base jurídica\, explicada en palabras de negocios y comprensible para profesionales de cualquier disciplina. \n\n¿A quién va dirigido?\nDirectivos de empresas\, abogados\, gerentes\, ejecutivos\, consultores\, administradores y a cualquier persona que desee adquirir una visión actualizada de las corporaciones en México.
URL:https://topslosmejoresabogados.com/eventos/diplomado-en-derecho-corporativo/
CATEGORIES:ONLINE
ATTACH;FMTTYPE=image/jpeg:https://topslosmejoresabogados.com/wp-content/uploads/2021/01/evento-10.jpg
END:VEVENT
BEGIN:VEVENT
DTSTART;TZID=America/Mexico_City:20210308T080000
DTEND;TZID=America/Mexico_City:20210728T170000
DTSTAMP:20260420T074521
CREATED:20210129T233028Z
LAST-MODIFIED:20210129T233028Z
UID:9125-1615190400-1627491600@topslosmejoresabogados.com
SUMMARY:Derecho bancario y financiero
DESCRIPTION:Coordinador:  JOSE MARIA MANZANILLA GALAVIZ \nInicia: 08-marzo-2021\nTermina: 28-julio-2021\nHorario: Lunes de 18:00 a 22:00 h. y Miércoles de 18:00 a 22:00 h.\nMódulos a cursar: 6\nHoras: 144\nCosto de inscripción: $9\,900.00 pesos M.N\nCosto por módulo: $8\,900.00 pesos M.N\nNotas: LAS SESIONES SE LLEVARAN A CABO CON EL USO DE LA HERRAMIENTA ZOOM.
URL:https://topslosmejoresabogados.com/eventos/derecho-bancario-y-financiero/
CATEGORIES:ONLINE
ATTACH;FMTTYPE=image/png:https://topslosmejoresabogados.com/wp-content/uploads/2021/01/Captura-de-Pantalla-2021-01-29-a-las-17.28.55.png
END:VEVENT
BEGIN:VEVENT
DTSTART;TZID=America/Mexico_City:20210309T080000
DTEND;TZID=America/Mexico_City:20210909T170000
DTSTAMP:20260420T074521
CREATED:20210119T180054Z
LAST-MODIFIED:20210119T180125Z
UID:8878-1615276800-1631206800@topslosmejoresabogados.com
SUMMARY:Diplomado en Derecho Empresarial
DESCRIPTION:Área: Derecho\nCoordinador:  LUCIA REINA ANTUÑA \nInicia: 09-marzo-2021\nTermina: 09-septiembre-2021\nHorario: Martes de 18:00 a 21:00 h. y Jueves de 18:00 a 21:00 h.\nMódulos a cursar: 6\nHoras: 144\nCosto de inscripción: $8\,900.00 pesos M.N\nCosto por módulo: $7\,900.00 pesos M.N\nNotas: LAS SESIONES SE LLEVARAN A CABO CON EL USO DE LA HERRAMIENTA ZOOM
URL:https://topslosmejoresabogados.com/eventos/diplomado-en-derecho-empresarial/
CATEGORIES:ONLINE
ATTACH;FMTTYPE=image/jpeg:https://topslosmejoresabogados.com/wp-content/uploads/2021/01/eventos-14.jpg
END:VEVENT
BEGIN:VEVENT
DTSTART;TZID=America/Mexico_City:20210316T080000
DTEND;TZID=America/Mexico_City:20210806T170000
DTSTAMP:20260420T074521
CREATED:20210225T212728Z
LAST-MODIFIED:20210225T212740Z
UID:9310-1615881600-1628269200@topslosmejoresabogados.com
SUMMARY:Planeación y operación legislativa
DESCRIPTION:Área: Sector Público\nInicia: 16-marzo-2021\nTermina: 06-agosto-2021\nHorario: Martes de 17:00 a 20:20 h. y Jueves de 17:00 a 20:20 h.\nMódulos a cursar: 6\nHoras: 133\nCosto de inscripción: $9\,900.00 pesos M.N\nCosto por módulo: $6\,900.00 pesos M.N\nNotas: LAS SESIONES SE LLEVARAN A CABO MEDIANTE LA HERRAMIENTA ZOOM.
URL:https://topslosmejoresabogados.com/eventos/planeacion-y-operacion-legislativa/
CATEGORIES:ONLINE
ATTACH;FMTTYPE=image/png:https://topslosmejoresabogados.com/wp-content/uploads/2021/02/evento-7.png
END:VEVENT
BEGIN:VEVENT
DTSTART;TZID=America/Mexico_City:20210316T080000
DTEND;TZID=America/Mexico_City:20210816T170000
DTSTAMP:20260420T074521
CREATED:20210225T213455Z
LAST-MODIFIED:20210225T213455Z
UID:9316-1615881600-1629133200@topslosmejoresabogados.com
SUMMARY:Diplomado en "Contratos"
DESCRIPTION:Área: Derecho\nCoordinador:  JOSE MARIA MANZANILLA GALAVIZ \nInicia: 16-marzo-2021\nTermina: 26-agosto-2021\nHorario: Martes de 18:00 a 22:00 h. y Jueves de 18:00 a 22:00 h.\nMódulos a cursar: 7\nHoras: 168\nCosto de inscripción: $9\,900.00 pesos M.N\nCosto por módulo: $9\,100.00 pesos M.N\nNotas: LAS SESIONES SE LLEVARAN A CABO CON EL USO DE LA HERRAMIENTA ZOOM.
URL:https://topslosmejoresabogados.com/eventos/diplomado-en-contratos/
CATEGORIES:ONLINE
ATTACH;FMTTYPE=image/png:https://topslosmejoresabogados.com/wp-content/uploads/2021/02/evento-9.png
END:VEVENT
BEGIN:VEVENT
DTSTART;TZID=America/Mexico_City:20210323T080000
DTEND;TZID=America/Mexico_City:20210928T170000
DTSTAMP:20260420T074521
CREATED:20210225T213816Z
LAST-MODIFIED:20210225T213816Z
UID:9319-1616486400-1632848400@topslosmejoresabogados.com
SUMMARY:Diplomado en "Administración de riesgos de instituciones financieras"
DESCRIPTION:Área: Finanzas y Contabilidad\nCoordinador:  ALFREDO HERNANDEZ PRADO \nInicia: 23-marzo-2021\nTermina: 28-septiembre-2021\nHorario: Martes de 19:00 a 22:00 h. y Jueves de 19:00 a 22:00 h.\nMódulos a cursar: 6\nHoras: 138\nCosto de inscripción: $9\,900.00 pesos M.N\nCosto por módulo: $8\,800.00 pesos M.N\nNotas: LAS SESIONES SE LLEVARAN A CABO CON EL USO DE LA HERRAMIENTA ZOOM.
URL:https://topslosmejoresabogados.com/eventos/diplomado-en-administracion-de-riesgos-de-instituciones-financieras/
CATEGORIES:ONLINE
ATTACH;FMTTYPE=image/png:https://topslosmejoresabogados.com/wp-content/uploads/2021/02/evento-10.png
END:VEVENT
BEGIN:VEVENT
DTSTART;TZID=America/Mexico_City:20210412T080000
DTEND;TZID=America/Mexico_City:20210825T170000
DTSTAMP:20260420T074521
CREATED:20210316T230107Z
LAST-MODIFIED:20210316T230221Z
UID:10108-1618214400-1629910800@topslosmejoresabogados.com
SUMMARY:Estrategia comercial
DESCRIPTION:Área: Mercadotecnia y Ventas\n\n\nCoordinador:  CARLOS JIRASH MARTINEZ \nInicia: 12-abril-2021\nTermina: 25-agosto-2021\nHorario: Lunes de 18:00 a 21:00 h. y Miércoles de 18:00 a 21:00 h.\nMódulos a cursar: 6\nHoras: 120\nCosto de inscripción: $8\,900.00 pesos M.N\nCosto por módulo: $7\,700.00 pesos M.N\nNotas: LAS SESIONES SE LLEVARAN A CABO CON EL USO DE LA HERRAMIENTA ZOOM.
URL:https://topslosmejoresabogados.com/eventos/estrategia-comercial/
CATEGORIES:ONLINE
ATTACH;FMTTYPE=image/png:https://topslosmejoresabogados.com/wp-content/uploads/2021/03/evento-9.png
END:VEVENT
BEGIN:VEVENT
DTSTART;TZID=America/Mexico_City:20210423T080000
DTEND;TZID=America/Mexico_City:20210903T170000
DTSTAMP:20260420T074521
CREATED:20210225T215344Z
LAST-MODIFIED:20210225T215344Z
UID:9332-1619164800-1630688400@topslosmejoresabogados.com
SUMMARY:Diplomado en "Gestión gubernamental: presupuestación\, transparencia y rendición de cuentas"
DESCRIPTION:Área: Sector Público\nInicia: 23-abril-2021\nTermina: 03-septiembre-2021\nHorario: Viernes de 17:00 a 21:00 h. y Sábado de 09:00 a 13:00 h.\nMódulos a cursar: 7\nHoras: 140\nCosto de inscripción: $9\,900.00 pesos M.N\nCosto por módulo: $7\,800.00 pesos M.N\nNotas: LAS SESIONES SE LLEVARAN A CABO CON EL USO DE LA HERRAMIENTA ZOOM.
URL:https://topslosmejoresabogados.com/eventos/diplomado-en-gestion-gubernamental-presupuestacion-transparencia-y-rendicion-de-cuentas/
CATEGORIES:ONLINE
ATTACH;FMTTYPE=image/png:https://topslosmejoresabogados.com/wp-content/uploads/2021/02/evento-14.png
END:VEVENT
BEGIN:VEVENT
DTSTART;TZID=America/Mexico_City:20210426T080000
DTEND;TZID=America/Mexico_City:20211020T170000
DTSTAMP:20260420T074521
CREATED:20210412T221959Z
LAST-MODIFIED:20210412T222209Z
UID:10984-1619424000-1634749200@topslosmejoresabogados.com
SUMMARY:Juicios Constitucionales
DESCRIPTION:Área: Derecho\n\n\nCoordinadores:  OSMAR ARMANDO CRUZ QUIROZ\,   RODRIGO BERNARDO DIEZ GARGARI \nInicia: 26-abril-2021\nTermina: 20-octubre-2021\nHorario: Lunes de 18:00 a 21:00 h. y Miércoles de 18:00 a 21:00 h.\nMódulos a cursar: 3\nHoras: 135\nCosto de inscripción: $8\,900.00 pesos M.N\nCosto por módulo: $13\,900.00 pesos M.N\nNotas: LAS SESIONES SE LLEVARAN A CABO CON EL USO DE LA HERRAMIENTA ZOOM.
URL:https://topslosmejoresabogados.com/eventos/juicios-constitucionales/
CATEGORIES:ONLINE
ATTACH;FMTTYPE=image/png:https://topslosmejoresabogados.com/wp-content/uploads/2021/04/evento-4.png
END:VEVENT
BEGIN:VEVENT
DTSTART;TZID=America/Mexico_City:20210503T080000
DTEND;TZID=America/Mexico_City:20211018T170000
DTSTAMP:20260420T074521
CREATED:20210412T220035Z
LAST-MODIFIED:20210412T220112Z
UID:10974-1620028800-1634576400@topslosmejoresabogados.com
SUMMARY:Mecanismos alternativos de solución de controversias Masc (versión en línea)
DESCRIPTION:Área: Derecho\n\n\nCoordinador:  CAROLINA CASTELLANOS LOPEZ \nInicia: 03-mayo-2021\nTermina: 18-octubre-2021\nHorario: Lunes de 18:00 a 21:00 h. y Miércoles de 18:00 a 21:00 h.\nMódulos a cursar: 6\nHoras: 126\nCosto de inscripción: $9\,900.00 pesos M.N\nCosto por módulo: $7\,900.00 pesos M.N\nNotas: LAS SESIONES SE LLEVARAN A CABO CON EL USO DE LA HERRAMIENTA ZOOM
URL:https://topslosmejoresabogados.com/eventos/mecanismos-alternativos-de-solucion-de-controversias-masc-version-en-linea/
CATEGORIES:ONLINE
ATTACH;FMTTYPE=image/jpeg:https://topslosmejoresabogados.com/wp-content/uploads/2021/04/evento-1.jpg
END:VEVENT
BEGIN:VEVENT
DTSTART;TZID=America/Mexico_City:20210506T080000
DTEND;TZID=America/Mexico_City:20210603T170000
DTSTAMP:20260420T074521
CREATED:20210316T231303Z
LAST-MODIFIED:20210316T231533Z
UID:10118-1620288000-1622739600@topslosmejoresabogados.com
SUMMARY:Negociación y solución de conflictos
DESCRIPTION:Área: Desarrollo de Habilidades Gerenciales y Personales\n\n\nExpositor:  RUBEN FLORES SAHAB \nInicia: 06-mayo-2021\nTermina: 03-junio-2021\nHorario: Jueves de 17:00 a 20:00 h.\nHoras: 15\nCosto: $6\,900.00 pesos M.N \nNotas: LAS SESIONES SE LLEVARAN A CABO MEDIANTE LA HERRAMIENTA ZOOM. LAS CLASES SERAN LOS DIAS 6\, 13\, 20\, 27 DE MAYO Y 3 DE JUNIO
URL:https://topslosmejoresabogados.com/eventos/negociacion-y-solucion-de-conflictos/
CATEGORIES:ONLINE
ATTACH;FMTTYPE=image/png:https://topslosmejoresabogados.com/wp-content/uploads/2021/03/evento-12.png
END:VEVENT
BEGIN:VEVENT
DTSTART;TZID=America/Mexico_City:20210518T080000
DTEND;TZID=America/Mexico_City:20211021T170000
DTSTAMP:20260420T074521
CREATED:20210225T215652Z
LAST-MODIFIED:20210225T215652Z
UID:9335-1621324800-1634835600@topslosmejoresabogados.com
SUMMARY:Diplomado en "Comercio exterior y operación aduanera"
DESCRIPTION:Área: Derecho\nCoordinador:  GERARDO ARISTEO MARTIN JARAMILLO VAZQUEZ \nInicia: 18-mayo-2021\nTermina: 21-octubre-2021\nHorario: Martes de 18:00 a 21:00 h. y Jueves de 18:00 a 21:00 h.\nMódulos a cursar: 4\nHoras: 120\nCosto de inscripción: $9\,900.00 pesos M.N\nCosto por módulo: $10\,600.00 pesos M.N\nNotas: LAS SESIONES SE LLEVARAN A CABO CON EL USO DE LA HERRAMIENTA ZOOM.
URL:https://topslosmejoresabogados.com/eventos/diplomado-en-comercio-exterior-y-operacion-aduanera/
CATEGORIES:ONLINE
ATTACH;FMTTYPE=image/png:https://topslosmejoresabogados.com/wp-content/uploads/2021/02/evento-15.png
END:VEVENT
BEGIN:VEVENT
DTSTART;TZID=America/Mexico_City:20210518T080000
DTEND;TZID=America/Mexico_City:20211021T170000
DTSTAMP:20260420T074521
CREATED:20210412T224622Z
LAST-MODIFIED:20210412T224622Z
UID:11003-1621324800-1634835600@topslosmejoresabogados.com
SUMMARY:Comercio exterior y operación aduanera
DESCRIPTION:Área: Derecho\n\n\nCoordinador:  GERARDO ARISTEO MARTIN JARAMILLO VAZQUEZ \nInicia: 18-mayo-2021\nTermina: 21-octubre-2021\nHorario: Martes de 18:00 a 21:00 h. y Jueves de 18:00 a 21:00 h.\nMódulos a cursar: 4\nHoras: 120\nCosto de inscripción: $9\,900.00 pesos M.N\nCosto por módulo: $10\,600.00 pesos M.N\nNotas: LAS SESIONES SE LLEVARAN A CABO CON EL USO DE LA HERRAMIENTA ZOOM.
URL:https://topslosmejoresabogados.com/eventos/comercio-exterior-y-operacion-aduanera/
CATEGORIES:ONLINE
ATTACH;FMTTYPE=image/png:https://topslosmejoresabogados.com/wp-content/uploads/2021/04/evento-10.png
END:VEVENT
BEGIN:VEVENT
DTSTART;TZID=America/Mexico_City:20210520T080000
DTEND;TZID=America/Mexico_City:20210603T170000
DTSTAMP:20260420T074521
CREATED:20210412T222503Z
LAST-MODIFIED:20210412T222503Z
UID:10988-1621497600-1622739600@topslosmejoresabogados.com
SUMMARY:Los presupuestos y la planeación de utilidades
DESCRIPTION:Área: Finanzas y Contabilidad\n\n\nExpositor:  SILVINO VAZQUEZ ARROYO \nInicia: 20-mayo-2021\nTermina: 03-junio-2021\nHorario: Jueves de 16:00 a 20:00 h. y Viernes de 16:00 a 20:00 h.\nHoras: 20\nCosto: $8\,800.00 pesos M.N \nNotas: LAS SESIONES SE LLEVARAN A CABO MEDIATE LA HERRAMIENTA ZOOM. LAS CLASES SERAN LOS DIAS 20\, 21\, 27\, 28 DE MAYO Y 3 DE JUNIO
URL:https://topslosmejoresabogados.com/eventos/los-presupuestos-y-la-planeacion-de-utilidades/
CATEGORIES:ONLINE
ATTACH;FMTTYPE=image/png:https://topslosmejoresabogados.com/wp-content/uploads/2021/04/evento-5.png
END:VEVENT
BEGIN:VEVENT
DTSTART;TZID=America/Mexico_City:20210522T080000
DTEND;TZID=America/Mexico_City:20210717T170000
DTSTAMP:20260420T074521
CREATED:20210412T224243Z
LAST-MODIFIED:20210412T224243Z
UID:11000-1621670400-1626541200@topslosmejoresabogados.com
SUMMARY:Curso Integral de Finanzas
DESCRIPTION:Área: Finanzas y Contabilidad\n\n\nExpositores:  BENITO REVAH MEYOHAS\,   SILVINO VAZQUEZ ARROYO\,   JORGE GUILLERMO POZOS MENDOZA \nInicia: 22-mayo-2021\nTermina: 17-julio-2021\nHorario: Viernes de 16:00 a 20:00 h. y Sábado de 08:00 a 12:00 h.\nHoras: 52\nCosto: $20\,100.00 pesos M.N \nNotas: LAS SESIONES SE LLEVARAN A CABO MEDIANTE LA HERRAMIENTA ZOOM. LAS CLASES SERAN LOS DIAS 22\, 28 DE MAYO\, 5\, 12\, 18\, 19\, 25\, 26 DE JUNIO\, 2\, 9\, 10\, 16 Y 17 DE JULIO
URL:https://topslosmejoresabogados.com/eventos/curso-integral-de-finanzas/
CATEGORIES:ONLINE
ATTACH;FMTTYPE=image/png:https://topslosmejoresabogados.com/wp-content/uploads/2021/04/evento-9.png
END:VEVENT
BEGIN:VEVENT
DTSTART;TZID=America/Mexico_City:20210525T080000
DTEND;TZID=America/Mexico_City:20211123T170000
DTSTAMP:20260420T074521
CREATED:20210412T224912Z
LAST-MODIFIED:20210412T224912Z
UID:11006-1621929600-1637686800@topslosmejoresabogados.com
SUMMARY:Competencia económica
DESCRIPTION:Área: Economía\n\n\nCoordinador:  CARLOS MENA LABARTHE \nInicia: 25-mayo-2021\nTermina: 23-noviembre-2021\nHorario: Martes de 18:00 a 21:00 h. y Jueves de 18:00 a 21:00 h.\nMódulos a cursar: 3\nHoras: 126\nCosto de inscripción: $9\,900.00 pesos M.N\nCosto por módulo: $14\,000.00 pesos M.N\nNotas: LAS SESIONES SE LLEVARAN A CABO CON EL USO DE LA HERRAMIENTA ZOOM.
URL:https://topslosmejoresabogados.com/eventos/competencia-economica/
CATEGORIES:ONLINE
ATTACH;FMTTYPE=image/png:https://topslosmejoresabogados.com/wp-content/uploads/2021/04/evento-11.png
END:VEVENT
BEGIN:VEVENT
DTSTART;TZID=America/Mexico_City:20210526T080000
DTEND;TZID=America/Mexico_City:20210623T170000
DTSTAMP:20260420T074521
CREATED:20210412T225125Z
LAST-MODIFIED:20210412T225125Z
UID:11009-1622016000-1624467600@topslosmejoresabogados.com
SUMMARY:Aspectos tributarios en salarios y prestaciones
DESCRIPTION:Área: Impuestos\n\n\nExpositor:  LUIS CARLOS LEDESMA VILLAR \nInicia: 26-mayo-2021\nTermina: 23-junio-2021\nHorario: Miércoles de 17:00 a 21:00 h.\nHoras: 20\nCosto: $9\,400.00 pesos M.N \nNotas: LAS SESIONES SE LLEVARAN A CABO MEDIANTE LA HERRAMIENTA ZOOM. LAS CLASES SERAN LOS DIAS 26 DE MAYO\, 2\, 9\, 16 Y 23 DE JUNIO
URL:https://topslosmejoresabogados.com/eventos/aspectos-tributarios-en-salarios-y-prestaciones/
CATEGORIES:ONLINE
ATTACH;FMTTYPE=image/png:https://topslosmejoresabogados.com/wp-content/uploads/2021/04/evento-12.png
END:VEVENT
BEGIN:VEVENT
DTSTART;TZID=America/Mexico_City:20210527T080000
DTEND;TZID=America/Mexico_City:20210618T170000
DTSTAMP:20260420T074521
CREATED:20210412T225409Z
LAST-MODIFIED:20210412T225409Z
UID:11012-1622102400-1624035600@topslosmejoresabogados.com
SUMMARY:Hacia la implementación del T-MEC
DESCRIPTION:Área: Internacionales\n\n\nExpositores:  FERNANDO MAYER DE LEEUW\,   MOISES JOEL ZAVALETA LOPEZ\,   SAMANTHA ATAYDE ARELLANO\,   RUBISEL VELAZQUEZ LUGO \nInicia: 27-mayo-2021\nTermina: 18-junio-2021\nHorario: Jueves de 17:00 a 20:00 h. y Viernes de 17:00 a 20:00 h.\nHoras: 24\nCosto: $12\,000.00 pesos M.N \nNotas: LAS SESIONES SE LLEVARAN A CABO CON EL USO DE LA HERRAMIENTA ZOOM. LAS CLASES SERAN LOS DIAS 27\, 28 DE MAYO\, 3\, 4\, 10\, 11\, 17 Y 18 DE JUNIO
URL:https://topslosmejoresabogados.com/eventos/hacia-la-implementacion-del-t-mec/
CATEGORIES:ONLINE
ATTACH;FMTTYPE=image/png:https://topslosmejoresabogados.com/wp-content/uploads/2021/04/evento-13.png
END:VEVENT
END:VCALENDAR