BEGIN:VCALENDAR
VERSION:2.0
PRODID:-//Tops México los Mejores Abogados - ECPv6.15.17.1//NONSGML v1.0//EN
CALSCALE:GREGORIAN
METHOD:PUBLISH
X-WR-CALNAME:Tops México los Mejores Abogados
X-ORIGINAL-URL:https://topslosmejoresabogados.com
X-WR-CALDESC:Eventos para Tops México los Mejores Abogados
REFRESH-INTERVAL;VALUE=DURATION:PT1H
X-Robots-Tag:noindex
X-PUBLISHED-TTL:PT1H
BEGIN:VTIMEZONE
TZID:America/Mexico_City
BEGIN:DAYLIGHT
TZOFFSETFROM:-0600
TZOFFSETTO:-0500
TZNAME:CDT
DTSTART:20200405T080000
END:DAYLIGHT
BEGIN:STANDARD
TZOFFSETFROM:-0500
TZOFFSETTO:-0600
TZNAME:CST
DTSTART:20201025T070000
END:STANDARD
BEGIN:DAYLIGHT
TZOFFSETFROM:-0600
TZOFFSETTO:-0500
TZNAME:CDT
DTSTART:20210404T080000
END:DAYLIGHT
BEGIN:STANDARD
TZOFFSETFROM:-0500
TZOFFSETTO:-0600
TZNAME:CST
DTSTART:20211031T070000
END:STANDARD
BEGIN:DAYLIGHT
TZOFFSETFROM:-0600
TZOFFSETTO:-0500
TZNAME:CDT
DTSTART:20220403T080000
END:DAYLIGHT
BEGIN:STANDARD
TZOFFSETFROM:-0500
TZOFFSETTO:-0600
TZNAME:CST
DTSTART:20221030T070000
END:STANDARD
END:VTIMEZONE
BEGIN:VEVENT
DTSTART;TZID=America/Mexico_City:20210426T080000
DTEND;TZID=America/Mexico_City:20211020T170000
DTSTAMP:20260420T014806
CREATED:20210412T221959Z
LAST-MODIFIED:20210412T222209Z
UID:10984-1619424000-1634749200@topslosmejoresabogados.com
SUMMARY:Juicios Constitucionales
DESCRIPTION:Área: Derecho\n\n\nCoordinadores:  OSMAR ARMANDO CRUZ QUIROZ\,   RODRIGO BERNARDO DIEZ GARGARI \nInicia: 26-abril-2021\nTermina: 20-octubre-2021\nHorario: Lunes de 18:00 a 21:00 h. y Miércoles de 18:00 a 21:00 h.\nMódulos a cursar: 3\nHoras: 135\nCosto de inscripción: $8\,900.00 pesos M.N\nCosto por módulo: $13\,900.00 pesos M.N\nNotas: LAS SESIONES SE LLEVARAN A CABO CON EL USO DE LA HERRAMIENTA ZOOM.
URL:https://topslosmejoresabogados.com/eventos/juicios-constitucionales/
CATEGORIES:ONLINE
ATTACH;FMTTYPE=image/png:https://topslosmejoresabogados.com/wp-content/uploads/2021/04/evento-4.png
END:VEVENT
BEGIN:VEVENT
DTSTART;TZID=America/Mexico_City:20210503T080000
DTEND;TZID=America/Mexico_City:20211018T170000
DTSTAMP:20260420T014806
CREATED:20210412T220035Z
LAST-MODIFIED:20210412T220112Z
UID:10974-1620028800-1634576400@topslosmejoresabogados.com
SUMMARY:Mecanismos alternativos de solución de controversias Masc (versión en línea)
DESCRIPTION:Área: Derecho\n\n\nCoordinador:  CAROLINA CASTELLANOS LOPEZ \nInicia: 03-mayo-2021\nTermina: 18-octubre-2021\nHorario: Lunes de 18:00 a 21:00 h. y Miércoles de 18:00 a 21:00 h.\nMódulos a cursar: 6\nHoras: 126\nCosto de inscripción: $9\,900.00 pesos M.N\nCosto por módulo: $7\,900.00 pesos M.N\nNotas: LAS SESIONES SE LLEVARAN A CABO CON EL USO DE LA HERRAMIENTA ZOOM
URL:https://topslosmejoresabogados.com/eventos/mecanismos-alternativos-de-solucion-de-controversias-masc-version-en-linea/
CATEGORIES:ONLINE
ATTACH;FMTTYPE=image/jpeg:https://topslosmejoresabogados.com/wp-content/uploads/2021/04/evento-1.jpg
END:VEVENT
BEGIN:VEVENT
DTSTART;TZID=America/Mexico_City:20210518T080000
DTEND;TZID=America/Mexico_City:20211021T170000
DTSTAMP:20260420T014806
CREATED:20210225T215652Z
LAST-MODIFIED:20210225T215652Z
UID:9335-1621324800-1634835600@topslosmejoresabogados.com
SUMMARY:Diplomado en "Comercio exterior y operación aduanera"
DESCRIPTION:Área: Derecho\nCoordinador:  GERARDO ARISTEO MARTIN JARAMILLO VAZQUEZ \nInicia: 18-mayo-2021\nTermina: 21-octubre-2021\nHorario: Martes de 18:00 a 21:00 h. y Jueves de 18:00 a 21:00 h.\nMódulos a cursar: 4\nHoras: 120\nCosto de inscripción: $9\,900.00 pesos M.N\nCosto por módulo: $10\,600.00 pesos M.N\nNotas: LAS SESIONES SE LLEVARAN A CABO CON EL USO DE LA HERRAMIENTA ZOOM.
URL:https://topslosmejoresabogados.com/eventos/diplomado-en-comercio-exterior-y-operacion-aduanera/
CATEGORIES:ONLINE
ATTACH;FMTTYPE=image/png:https://topslosmejoresabogados.com/wp-content/uploads/2021/02/evento-15.png
END:VEVENT
BEGIN:VEVENT
DTSTART;TZID=America/Mexico_City:20210518T080000
DTEND;TZID=America/Mexico_City:20211021T170000
DTSTAMP:20260420T014806
CREATED:20210412T224622Z
LAST-MODIFIED:20210412T224622Z
UID:11003-1621324800-1634835600@topslosmejoresabogados.com
SUMMARY:Comercio exterior y operación aduanera
DESCRIPTION:Área: Derecho\n\n\nCoordinador:  GERARDO ARISTEO MARTIN JARAMILLO VAZQUEZ \nInicia: 18-mayo-2021\nTermina: 21-octubre-2021\nHorario: Martes de 18:00 a 21:00 h. y Jueves de 18:00 a 21:00 h.\nMódulos a cursar: 4\nHoras: 120\nCosto de inscripción: $9\,900.00 pesos M.N\nCosto por módulo: $10\,600.00 pesos M.N\nNotas: LAS SESIONES SE LLEVARAN A CABO CON EL USO DE LA HERRAMIENTA ZOOM.
URL:https://topslosmejoresabogados.com/eventos/comercio-exterior-y-operacion-aduanera/
CATEGORIES:ONLINE
ATTACH;FMTTYPE=image/png:https://topslosmejoresabogados.com/wp-content/uploads/2021/04/evento-10.png
END:VEVENT
BEGIN:VEVENT
DTSTART;TZID=America/Mexico_City:20210525T080000
DTEND;TZID=America/Mexico_City:20211123T170000
DTSTAMP:20260420T014806
CREATED:20210412T224912Z
LAST-MODIFIED:20210412T224912Z
UID:11006-1621929600-1637686800@topslosmejoresabogados.com
SUMMARY:Competencia económica
DESCRIPTION:Área: Economía\n\n\nCoordinador:  CARLOS MENA LABARTHE \nInicia: 25-mayo-2021\nTermina: 23-noviembre-2021\nHorario: Martes de 18:00 a 21:00 h. y Jueves de 18:00 a 21:00 h.\nMódulos a cursar: 3\nHoras: 126\nCosto de inscripción: $9\,900.00 pesos M.N\nCosto por módulo: $14\,000.00 pesos M.N\nNotas: LAS SESIONES SE LLEVARAN A CABO CON EL USO DE LA HERRAMIENTA ZOOM.
URL:https://topslosmejoresabogados.com/eventos/competencia-economica/
CATEGORIES:ONLINE
ATTACH;FMTTYPE=image/png:https://topslosmejoresabogados.com/wp-content/uploads/2021/04/evento-11.png
END:VEVENT
END:VCALENDAR