BEGIN:VCALENDAR
VERSION:2.0
PRODID:-//Tops México los Mejores Abogados - ECPv6.15.17.1//NONSGML v1.0//EN
CALSCALE:GREGORIAN
METHOD:PUBLISH
X-WR-CALNAME:Tops México los Mejores Abogados
X-ORIGINAL-URL:https://topslosmejoresabogados.com
X-WR-CALDESC:Eventos para Tops México los Mejores Abogados
REFRESH-INTERVAL;VALUE=DURATION:PT1H
X-Robots-Tag:noindex
X-PUBLISHED-TTL:PT1H
BEGIN:VTIMEZONE
TZID:America/Mexico_City
BEGIN:DAYLIGHT
TZOFFSETFROM:-0600
TZOFFSETTO:-0500
TZNAME:CDT
DTSTART:20200405T080000
END:DAYLIGHT
BEGIN:STANDARD
TZOFFSETFROM:-0500
TZOFFSETTO:-0600
TZNAME:CST
DTSTART:20201025T070000
END:STANDARD
BEGIN:DAYLIGHT
TZOFFSETFROM:-0600
TZOFFSETTO:-0500
TZNAME:CDT
DTSTART:20210404T080000
END:DAYLIGHT
BEGIN:STANDARD
TZOFFSETFROM:-0500
TZOFFSETTO:-0600
TZNAME:CST
DTSTART:20211031T070000
END:STANDARD
BEGIN:DAYLIGHT
TZOFFSETFROM:-0600
TZOFFSETTO:-0500
TZNAME:CDT
DTSTART:20220403T080000
END:DAYLIGHT
BEGIN:STANDARD
TZOFFSETFROM:-0500
TZOFFSETTO:-0600
TZNAME:CST
DTSTART:20221030T070000
END:STANDARD
END:VTIMEZONE
BEGIN:VEVENT
DTSTART;TZID=America/Mexico_City:20210126T170000
DTEND;TZID=America/Mexico_City:20210126T190000
DTSTAMP:20260420T180047
CREATED:20210119T170327Z
LAST-MODIFIED:20210119T174023Z
UID:8844-1611680400-1611687600@topslosmejoresabogados.com
SUMMARY:La resinserción social para adolescentes involucrados en el crimen organizado
DESCRIPTION:
URL:https://topslosmejoresabogados.com/eventos/la-resinsercion-social-para-adolescentes-involucrados-en-el-crimen-organizado/
ATTACH;FMTTYPE=image/png:https://topslosmejoresabogados.com/wp-content/uploads/2021/01/evento-5.png
END:VEVENT
BEGIN:VEVENT
DTSTART;TZID=America/Mexico_City:20210126T170000
DTEND;TZID=America/Mexico_City:20210126T190000
DTSTAMP:20260420T180047
CREATED:20210119T170953Z
LAST-MODIFIED:20210119T170953Z
UID:8851-1611680400-1611687600@topslosmejoresabogados.com
SUMMARY:Las Organizaciones Internacionales y los sistemas de Seguridad Social: su papel durante la crisis sanitaria y en la post-pandemia
DESCRIPTION:
URL:https://topslosmejoresabogados.com/eventos/las-organizaciones-internacionales-y-los-sistemas-de-seguridad-social-su-papel-durante-la-crisis-sanitaria-y-en-la-post-pandemia/
ATTACH;FMTTYPE=image/png:https://topslosmejoresabogados.com/wp-content/uploads/2021/01/evento-7.png
END:VEVENT
BEGIN:VEVENT
DTSTART;TZID=America/Mexico_City:20210126T180000
DTEND;TZID=America/Mexico_City:20210126T200000
DTSTAMP:20260420T180047
CREATED:20210119T170131Z
LAST-MODIFIED:20210119T170131Z
UID:8841-1611684000-1611691200@topslosmejoresabogados.com
SUMMARY:Violencia de género y divorcio
DESCRIPTION:
URL:https://topslosmejoresabogados.com/eventos/violencia-de-genero-y-divorcio/
CATEGORIES:ONLINE
ATTACH;FMTTYPE=image/png:https://topslosmejoresabogados.com/wp-content/uploads/2021/01/evento-4.png
END:VEVENT
BEGIN:VEVENT
DTSTART;TZID=America/Mexico_City:20210127T170000
DTEND;TZID=America/Mexico_City:20210127T190000
DTSTAMP:20260420T180047
CREATED:20210119T165813Z
LAST-MODIFIED:20210119T165813Z
UID:8838-1611766800-1611774000@topslosmejoresabogados.com
SUMMARY:La necesaria renovación de la función social de la propiedad
DESCRIPTION:
URL:https://topslosmejoresabogados.com/eventos/la-necesaria-renovacion-de-la-funcion-social-de-la-propiedad/
CATEGORIES:ONLINE
ATTACH;FMTTYPE=image/png:https://topslosmejoresabogados.com/wp-content/uploads/2021/01/evento-3.png
END:VEVENT
BEGIN:VEVENT
DTSTART;TZID=America/Mexico_City:20210128T160000
DTEND;TZID=America/Mexico_City:20210128T190000
DTSTAMP:20260420T180047
CREATED:20210118T235358Z
LAST-MODIFIED:20210118T235542Z
UID:8835-1611849600-1611860400@topslosmejoresabogados.com
SUMMARY:El control concentrado de constitucionalidad local
DESCRIPTION:
URL:https://topslosmejoresabogados.com/eventos/el-control-concentrado-de-constitucionalidad-local/
CATEGORIES:ONLINE
ATTACH;FMTTYPE=image/png:https://topslosmejoresabogados.com/wp-content/uploads/2021/01/evento-2.png
END:VEVENT
BEGIN:VEVENT
DTSTART;TZID=America/Mexico_City:20210128T170000
DTEND;TZID=America/Mexico_City:20210128T190000
DTSTAMP:20260420T180047
CREATED:20201124T065511Z
LAST-MODIFIED:20210118T234048Z
UID:7430-1611853200-1611860400@topslosmejoresabogados.com
SUMMARY:NUEVA LEY FEDERAL DE PROTECCIÓN A LA PROPIEDAD INDUSTRIAL
DESCRIPTION:
URL:https://topslosmejoresabogados.com/eventos/nueva-ley-federal-de-proteccion-a-la-propiedad-industrial/
CATEGORIES:ONLINE
ATTACH;FMTTYPE=image/png:https://topslosmejoresabogados.com/wp-content/uploads/2020/11/evento-1.png
END:VEVENT
BEGIN:VEVENT
DTSTART;TZID=America/Mexico_City:20210129T170000
DTEND;TZID=America/Mexico_City:20210129T200000
DTSTAMP:20260420T180047
CREATED:20210119T170555Z
LAST-MODIFIED:20210119T170708Z
UID:8847-1611939600-1611950400@topslosmejoresabogados.com
SUMMARY:Curso “Juicios Orales en Materia Civil”
DESCRIPTION:
URL:https://topslosmejoresabogados.com/eventos/curso-juicios-orales-en-materia-civil/
CATEGORIES:ONLINE
ATTACH;FMTTYPE=image/jpeg:https://topslosmejoresabogados.com/wp-content/uploads/2021/01/evento-6.jpg
END:VEVENT
BEGIN:VEVENT
DTSTART;TZID=America/Mexico_City:20210203T160000
DTEND;TZID=America/Mexico_City:20210203T180000
DTSTAMP:20260420T180047
CREATED:20210129T200508Z
LAST-MODIFIED:20210129T200750Z
UID:9082-1612368000-1612375200@topslosmejoresabogados.com
SUMMARY:Uso de leyes y mecanismos legales contra el cáncer en Latinoamérica
DESCRIPTION:
URL:https://topslosmejoresabogados.com/eventos/uso-de-leyes-y-mecanismos-legales-contra-el-cancer-en-latinoamerica/
CATEGORIES:ONLINE
ATTACH;FMTTYPE=image/png:https://topslosmejoresabogados.com/wp-content/uploads/2021/01/evento-1.png
END:VEVENT
BEGIN:VEVENT
DTSTART;TZID=America/Mexico_City:20210204T093000
DTEND;TZID=America/Mexico_City:20210204T093000
DTSTAMP:20260420T180047
CREATED:20210129T225445Z
LAST-MODIFIED:20210129T225445Z
UID:9097-1612431000-1612431000@topslosmejoresabogados.com
SUMMARY:Nuevos lineamientos para acuerdos conclusivos
DESCRIPTION:Ponente: Lic. Luis Fernando Balderas Espinosa Subprocurador de acuerdos inclusivos y gestión intitucional PRODECONRegistro: enrique.tenorio@incam.org
URL:https://topslosmejoresabogados.com/eventos/nuevos-lineamientos-para-acuerdos-conclusivos/
CATEGORIES:ONLINE
ATTACH;FMTTYPE=image/png:https://topslosmejoresabogados.com/wp-content/uploads/2021/01/evento-3-1.png
END:VEVENT
BEGIN:VEVENT
DTSTART;TZID=America/Mexico_City:20210204T180000
DTEND;TZID=America/Mexico_City:20210204T180000
DTSTAMP:20260420T180047
CREATED:20210129T221719Z
LAST-MODIFIED:20210129T221905Z
UID:9090-1612461600-1612461600@topslosmejoresabogados.com
SUMMARY:La importancia del Branding Personal para abogados
DESCRIPTION:Registro en: colegiodeabogados@incam.org
URL:https://topslosmejoresabogados.com/eventos/la-importancia-del-branding-personal-para-abogados/
CATEGORIES:ONLINE
ATTACH;FMTTYPE=image/png:https://topslosmejoresabogados.com/wp-content/uploads/2021/01/evento-2-1.png
END:VEVENT
BEGIN:VEVENT
DTSTART;TZID=America/Mexico_City:20210206T080000
DTEND;TZID=America/Mexico_City:20210206T170000
DTSTAMP:20260420T180047
CREATED:20210129T225944Z
LAST-MODIFIED:20210129T225944Z
UID:9100-1612598400-1612630800@topslosmejoresabogados.com
SUMMARY:Diplomado con opción a titulación en Derecho Familiar
DESCRIPTION:
URL:https://topslosmejoresabogados.com/eventos/diplomado-con-opcion-a-titulacion-en-derecho-familiar/
CATEGORIES:ONLINE
ATTACH;FMTTYPE=image/png:https://topslosmejoresabogados.com/wp-content/uploads/2021/01/evento-4-1.png
END:VEVENT
BEGIN:VEVENT
DTSTART;TZID=America/Mexico_City:20210208T180000
DTEND;TZID=America/Mexico_City:20210208T200000
DTSTAMP:20260420T180047
CREATED:20210129T230459Z
LAST-MODIFIED:20210129T230459Z
UID:9103-1612807200-1612814400@topslosmejoresabogados.com
SUMMARY:HOMENAJE AL DR. CARLOS DAZA GÓMEZ.
DESCRIPTION:
URL:https://topslosmejoresabogados.com/eventos/homenaje-al-dr-carlos-daza-gomez/
CATEGORIES:ONLINE
ATTACH;FMTTYPE=image/png:https://topslosmejoresabogados.com/wp-content/uploads/2021/01/evento-5-1.png
END:VEVENT
BEGIN:VEVENT
DTSTART;TZID=America/Mexico_City:20210210T080000
DTEND;TZID=America/Mexico_City:20210407T170000
DTSTAMP:20260420T180047
CREATED:20210119T174910Z
LAST-MODIFIED:20210119T174910Z
UID:8868-1612944000-1617814800@topslosmejoresabogados.com
SUMMARY:Curso en Planeación Fiscal
DESCRIPTION:Área: Impuestos\nExpositor:  LUIS CARLOS LEDESMA VILLAR \nInicia: 10-febrero-2021\nTermina: 07-abril-2021\nHorario: Miércoles de 17:00 a 21:00 h.\nHoras: 32\nCosto: $11\,900.00 pesos M.N \nNotas: LAS SESIONES SE LLEVARAN A CABO CON EL USO DE LA HERRAMIENTA ZOOM. LAS CLASES SERAN LOS DIAS 10\, 17\, 24 DE FEBRERO\, 3\, 10\, 17\, 24 DE MARZO Y 7 DE ABRIL
URL:https://topslosmejoresabogados.com/eventos/curso-en-planeacion-fiscal/
CATEGORIES:ONLINE
ATTACH;FMTTYPE=image/jpeg:https://topslosmejoresabogados.com/wp-content/uploads/2021/01/evento-11.jpg
END:VEVENT
BEGIN:VEVENT
DTSTART;TZID=America/Mexico_City:20210210T170000
DTEND;TZID=America/Mexico_City:20210211T190000
DTSTAMP:20260420T180047
CREATED:20210129T230836Z
LAST-MODIFIED:20210129T230836Z
UID:9107-1612976400-1613070000@topslosmejoresabogados.com
SUMMARY:Manejo de emociones en el aula
DESCRIPTION:
URL:https://topslosmejoresabogados.com/eventos/manejo-de-emociones-en-el-aula/
CATEGORIES:ONLINE
ATTACH;FMTTYPE=image/png:https://topslosmejoresabogados.com/wp-content/uploads/2021/01/evento-6.png
END:VEVENT
BEGIN:VEVENT
DTSTART;TZID=America/Mexico_City:20210210T173000
DTEND;TZID=America/Mexico_City:20210310T190000
DTSTAMP:20260420T180047
CREATED:20210129T231638Z
LAST-MODIFIED:20210129T231638Z
UID:9110-1612978200-1615402800@topslosmejoresabogados.com
SUMMARY:Una oportunidad de transformación para el ecosistema legal mexicano
DESCRIPTION:
URL:https://topslosmejoresabogados.com/eventos/una-oportunidad-de-transformacion-para-el-ecosistema-legal-mexicano/
ATTACH;FMTTYPE=image/png:https://topslosmejoresabogados.com/wp-content/uploads/2021/01/evento-7-1.png
END:VEVENT
BEGIN:VEVENT
DTSTART;TZID=America/Mexico_City:20210211T090000
DTEND;TZID=America/Mexico_City:20210211T110000
DTSTAMP:20260420T180047
CREATED:20210129T232039Z
LAST-MODIFIED:20210129T232039Z
UID:9114-1613034000-1613041200@topslosmejoresabogados.com
SUMMARY:Reforma de agentes FIFA
DESCRIPTION:
URL:https://topslosmejoresabogados.com/eventos/reforma-de-agentes-fifa/
CATEGORIES:ONLINE
ATTACH;FMTTYPE=image/png:https://topslosmejoresabogados.com/wp-content/uploads/2021/01/evento-8-1.png
END:VEVENT
BEGIN:VEVENT
DTSTART;TZID=America/Mexico_City:20210212T080000
DTEND;TZID=America/Mexico_City:20210717T170000
DTSTAMP:20260420T180047
CREATED:20210119T173953Z
LAST-MODIFIED:20210119T173953Z
UID:8863-1613116800-1626541200@topslosmejoresabogados.com
SUMMARY:Diplomado en Derecho Corporativo
DESCRIPTION:Área: Derecho\nCoordinador:  JOSE MARIA MANZANILLA GALAVIZ \nInicia: 12-febrero-2021\nTermina: 17-julio-2021\nHorario: Viernes de 17:00 a 21:00 h. y Sábado de 09:00 a 13:00 h.\nMódulos a cursar: 6\nHoras: 144\nCosto de inscripción: $9\,900.00 pesos M.N\nCosto por módulo: $8\,900.00 pesos M.N\nNotas: LAS SESIONES SE LLEVARAN A CABO CON EL USO DE LA HERRAMIENTA ZOOM.\n\nAcerca del programa\nEl objetivo del Diplomado es proporcionar al participante una visión integral general de las corporaciones en México\, incluidas su constitución\, su operación y su control\, así como un acercamiento a las corporaciones en los E.U.A. Ofrecer las herramientas indispensables para un adecuado manejo del inglés jurídico. El Diplomado tendrá una base jurídica\, explicada en palabras de negocios y comprensible para profesionales de cualquier disciplina. \n\n¿A quién va dirigido?\nDirectivos de empresas\, abogados\, gerentes\, ejecutivos\, consultores\, administradores y a cualquier persona que desee adquirir una visión actualizada de las corporaciones en México.
URL:https://topslosmejoresabogados.com/eventos/diplomado-en-derecho-corporativo/
CATEGORIES:ONLINE
ATTACH;FMTTYPE=image/jpeg:https://topslosmejoresabogados.com/wp-content/uploads/2021/01/evento-10.jpg
END:VEVENT
BEGIN:VEVENT
DTSTART;TZID=America/Mexico_City:20210215T080000
DTEND;TZID=America/Mexico_City:20210522T170000
DTSTAMP:20260420T180047
CREATED:20210119T171248Z
LAST-MODIFIED:20210119T171248Z
UID:8855-1613376000-1621702800@topslosmejoresabogados.com
SUMMARY:Diplomado online en Derecho de la Energía
DESCRIPTION:Diplomado online\nInicio: 15 de febrero 2021\nDuración: 3 meses\nHorario: 5:00 a 7:00 p.m.\, los días lunes\, miércoles y algunas veces martes o jueves. \n\nCosto:\nUn solo pago al inicio del Diplomado de $27\,900.00\, o bien dos pagos mensuales de $15\,000 cada uno. \n\nMás Información al mail:\nlsanchez@eld.edu.mx\ny/o mayramc@eld.edu.mx\n55.88.02.11 ext. 200 y 201
URL:https://topslosmejoresabogados.com/eventos/diplomado-online-en-derecho-de-la-energia/
ATTACH;FMTTYPE=image/png:https://topslosmejoresabogados.com/wp-content/uploads/2021/01/evento-8.png
END:VEVENT
BEGIN:VEVENT
DTSTART;TZID=America/Mexico_City:20210222T080000
DTEND;TZID=America/Mexico_City:20210521T170000
DTSTAMP:20260420T180047
CREATED:20210129T232347Z
LAST-MODIFIED:20210129T232347Z
UID:9118-1613980800-1621616400@topslosmejoresabogados.com
SUMMARY:Derecho empresarial
DESCRIPTION:
URL:https://topslosmejoresabogados.com/eventos/derecho-empresarial/
CATEGORIES:ONLINE
ATTACH;FMTTYPE=image/png:https://topslosmejoresabogados.com/wp-content/uploads/2021/01/evento-9-1.png
END:VEVENT
BEGIN:VEVENT
DTSTART;TZID=America/Mexico_City:20210226T080000
DTEND;TZID=America/Mexico_City:20210312T170000
DTSTAMP:20260420T180047
CREATED:20210225T194617Z
LAST-MODIFIED:20210225T194705Z
UID:9287-1614326400-1615568400@topslosmejoresabogados.com
SUMMARY:Ciclo de conferencias "Retos y oportunidades del crecimiento personal durante la pendemia"
DESCRIPTION:Segundo ciclo de conferencias sobre: Retos y oportunidades del crecimiento personal durante la pandemia.\nSesión 1: más allá de los modelos.\nSesión 2: sanar el vínculo.\nSesión 3: ser en armonía.
URL:https://topslosmejoresabogados.com/eventos/ciclo-de-conferencias-retos-y-oportunidades-del-crecimiento-personal-durante-la-pendemia/
CATEGORIES:ONLINE
ATTACH;FMTTYPE=image/png:https://topslosmejoresabogados.com/wp-content/uploads/2021/02/evento-1.png
END:VEVENT
BEGIN:VEVENT
DTSTART;TZID=America/Mexico_City:20210226T110000
DTEND;TZID=America/Mexico_City:20210226T130000
DTSTAMP:20260420T180047
CREATED:20210129T232737Z
LAST-MODIFIED:20210129T232737Z
UID:9121-1614337200-1614344400@topslosmejoresabogados.com
SUMMARY:Criterios para la distritación electoral indígena
DESCRIPTION:
URL:https://topslosmejoresabogados.com/eventos/criterios-para-la-distritacion-electoral-indigena/
CATEGORIES:ONLINE
ATTACH;FMTTYPE=image/png:https://topslosmejoresabogados.com/wp-content/uploads/2021/01/evento-10.png
END:VEVENT
BEGIN:VEVENT
DTSTART;TZID=America/Mexico_City:20210302T080000
DTEND;TZID=America/Mexico_City:20210408T170000
DTSTAMP:20260420T180047
CREATED:20210225T195657Z
LAST-MODIFIED:20210225T200257Z
UID:9291-1614672000-1617901200@topslosmejoresabogados.com
SUMMARY:Diplomado en derecho procesal constitucional de la Ciudad de México
DESCRIPTION:Martes y jueves de 17 a 19:30 horas.
URL:https://topslosmejoresabogados.com/eventos/diplomado-en-derecho-procesal-constitucional-de-la-ciudad-de-mexico/
CATEGORIES:ONLINE
ATTACH;FMTTYPE=image/png:https://topslosmejoresabogados.com/wp-content/uploads/2021/02/evento-2.png
END:VEVENT
BEGIN:VEVENT
DTSTART;TZID=America/Mexico_City:20210302T100000
DTEND;TZID=America/Mexico_City:20210302T120000
DTSTAMP:20260420T180047
CREATED:20210225T210216Z
LAST-MODIFIED:20210225T210216Z
UID:9295-1614679200-1614686400@topslosmejoresabogados.com
SUMMARY:La adquisición de vacunas contra el Covid-19 por parte del sector privado
DESCRIPTION:Registro:\nIlarios@basham.com.mx
URL:https://topslosmejoresabogados.com/eventos/la-adquisicion-de-vacunas-contra-el-covid-19-por-parte-del-sector-privado/
CATEGORIES:ONLINE
ATTACH;FMTTYPE=image/png:https://topslosmejoresabogados.com/wp-content/uploads/2021/02/evento-3.png
END:VEVENT
BEGIN:VEVENT
DTSTART;TZID=America/Mexico_City:20210303T080000
DTEND;TZID=America/Mexico_City:20210407T170000
DTSTAMP:20260420T180047
CREATED:20210225T210619Z
LAST-MODIFIED:20210225T210711Z
UID:9298-1614758400-1617814800@topslosmejoresabogados.com
SUMMARY:Estrategia de ciberseguridad en las organizaciones
DESCRIPTION:Adquiere los elementos necesarios para poder crear e implementar una estrategia de gobierno y gestión de la Ciberseguridad.  \nPara más información visita: \n\nhttp://ow.ly/7Ux250DAKSm\n\n  \n\nÁrea: Tecnología y Computación\nExpositor:  UCIEL FRAGOSO RODRIGUEZ \nInicia: 03-marzo-2021\nTermina: 07-abril-2021\nHorario: Miércoles de 16:00 a 20:00 h.\nHoras: 20\n\nCosto: $9\,400.00 pesos M.N \nNotas: LAS SESIONES SE LLEVARAN A CABO CON EL USO DE LA HERRAMIENTA ZOOM. LAS CLASES SERAN LOS DIAS 3\, 10\, 17 Y 24 DE MARZO\, 7 DE ABRIL
URL:https://topslosmejoresabogados.com/eventos/estrategia-de-ciberseguridad-en-las-organizaciones/
ATTACH;FMTTYPE=image/png:https://topslosmejoresabogados.com/wp-content/uploads/2021/02/evento-4.png
END:VEVENT
BEGIN:VEVENT
DTSTART;TZID=America/Mexico_City:20210303T080000
DTEND;TZID=America/Mexico_City:20210512T170000
DTSTAMP:20260420T180047
CREATED:20210119T180448Z
LAST-MODIFIED:20210119T180448Z
UID:8882-1614758400-1620838800@topslosmejoresabogados.com
SUMMARY:Curso en El outsourcing (laboratorio fiscal\, laboral y penal)
DESCRIPTION:Área: Derecho\nExpositores:  EDUARDO OCAMPO BAUTISTA\, HEIVAR GUTIERREZ PELAYO\, CARLOS GUILLERMO RUIZ PASCACIO GAMBOA \nInicia: 03-marzo-2021\nTermina: 12-mayo-2021\nHorario: Miércoles de 17:00 a 21:00 h.\nHoras: 40\nCosto: $15\,700.00 pesos M.N\nNotas: LAS SESIONES SE LLEVARAN A CABO CON EL USO DE LA HERRAMIENTA ZOOM. LAS CLASES SERAN LOS DIAS 3\, 10\, 17\, 24 DE MARZO\, 7\, 14\, 21\, 28 DE ABRIL\, 5 Y 12 DE MAYO
URL:https://topslosmejoresabogados.com/eventos/curso-en-el-outsourcing-laboratorio-fiscal-laboral-y-penal/
CATEGORIES:ONLINE
ATTACH;FMTTYPE=image/jpeg:https://topslosmejoresabogados.com/wp-content/uploads/2021/01/eventos-15.jpg
END:VEVENT
BEGIN:VEVENT
DTSTART;TZID=America/Mexico_City:20210303T180000
DTEND;TZID=America/Mexico_City:20210303T200000
DTSTAMP:20260420T180047
CREATED:20210225T211223Z
LAST-MODIFIED:20210225T211223Z
UID:9303-1614794400-1614801600@topslosmejoresabogados.com
SUMMARY:Medidas cautelares y provisionales en arbitraje
DESCRIPTION:No te pierdas la participación de Luis Alberto King en la conferencia “Medidas cautelares y provisionales en arbitraje” del Comité de Jóvenes Árbitros del Bajío de ICC México. \nRegístrate aquí: http://ow.ly/RcSu50Dx2xC
URL:https://topslosmejoresabogados.com/eventos/medidas-cautelares-y-provisionales-en-arbitraje/
CATEGORIES:ONLINE
ATTACH;FMTTYPE=image/png:https://topslosmejoresabogados.com/wp-content/uploads/2021/02/evento-5.png
END:VEVENT
BEGIN:VEVENT
DTSTART;TZID=America/Mexico_City:20210304T110000
DTEND;TZID=America/Mexico_City:20210304T120000
DTSTAMP:20260420T180047
CREATED:20210225T211639Z
LAST-MODIFIED:20210225T212401Z
UID:9306-1614855600-1614859200@topslosmejoresabogados.com
SUMMARY:Conferencia Magistral "Neoconstitucionalismo"
DESCRIPTION:La Conferencia Magistral «Neoconstitucionalismo» de este 4 de marzo\, será dictada por el reconocido jurista Dr. José Juan Moreso\, miembro del comité científico de Isomomía.
URL:https://topslosmejoresabogados.com/eventos/conferencia-magistral-neoconstitucionalismo/
ATTACH;FMTTYPE=image/png:https://topslosmejoresabogados.com/wp-content/uploads/2021/02/evento-6.png
END:VEVENT
BEGIN:VEVENT
DTSTART;TZID=America/Mexico_City:20210308T080000
DTEND;TZID=America/Mexico_City:20210728T170000
DTSTAMP:20260420T180047
CREATED:20210129T233028Z
LAST-MODIFIED:20210129T233028Z
UID:9125-1615190400-1627491600@topslosmejoresabogados.com
SUMMARY:Derecho bancario y financiero
DESCRIPTION:Coordinador:  JOSE MARIA MANZANILLA GALAVIZ \nInicia: 08-marzo-2021\nTermina: 28-julio-2021\nHorario: Lunes de 18:00 a 22:00 h. y Miércoles de 18:00 a 22:00 h.\nMódulos a cursar: 6\nHoras: 144\nCosto de inscripción: $9\,900.00 pesos M.N\nCosto por módulo: $8\,900.00 pesos M.N\nNotas: LAS SESIONES SE LLEVARAN A CABO CON EL USO DE LA HERRAMIENTA ZOOM.
URL:https://topslosmejoresabogados.com/eventos/derecho-bancario-y-financiero/
CATEGORIES:ONLINE
ATTACH;FMTTYPE=image/png:https://topslosmejoresabogados.com/wp-content/uploads/2021/01/Captura-de-Pantalla-2021-01-29-a-las-17.28.55.png
END:VEVENT
BEGIN:VEVENT
DTSTART;TZID=America/Mexico_City:20210308T180000
DTEND;TZID=America/Mexico_City:20210308T200000
DTSTAMP:20260420T180047
CREATED:20210225T213123Z
LAST-MODIFIED:20210225T213123Z
UID:9313-1615226400-1615233600@topslosmejoresabogados.com
SUMMARY:Semana de actualización en comercio exterior y aduanas
DESCRIPTION:SEMANA DE ACTUALIZACIÓN EN COMERCIO EXTERIOR Y ADUANAS. \nCompliance Aduanero
URL:https://topslosmejoresabogados.com/eventos/semana-de-actualizacion-en-comercio-exterior-y-aduanas/
CATEGORIES:ONLINE
ATTACH;FMTTYPE=image/png:https://topslosmejoresabogados.com/wp-content/uploads/2021/02/evento-8.png
END:VEVENT
BEGIN:VEVENT
DTSTART;TZID=America/Mexico_City:20210309T080000
DTEND;TZID=America/Mexico_City:20210408T170000
DTSTAMP:20260420T180047
CREATED:20210119T175938Z
LAST-MODIFIED:20210119T175938Z
UID:8874-1615276800-1617901200@topslosmejoresabogados.com
SUMMARY:Curso en Derecho Corporativo Internacional
DESCRIPTION:Área: Derecho\nExpositor:  RICARDO DE BUEN RODRIGUEZ \nInicia: 09-marzo-2021\nTermina: 08-abril-2021\nHorario: Martes de 17:00 a 20:00 h. y Jueves de 17:00 a 20:00 h.\nHoras: 24\nCosto: $10\,800.00 pesos M.N \nNotas: LAS SESIONES SE LLEVARAN A CABO CON EL USO DE LA HERRAMIENTA ZOOM. LAS CLASES SERAN LOS DIAS 9\, 11\, 16\, 18\, 23\, 25 DE MARZO\, 6 Y 8 DE ABRIL
URL:https://topslosmejoresabogados.com/eventos/curso-en-derecho-corporativo-internacional/
CATEGORIES:ONLINE
ATTACH;FMTTYPE=image/jpeg:https://topslosmejoresabogados.com/wp-content/uploads/2021/01/eventos-13.jpg
END:VEVENT
END:VCALENDAR