BEGIN:VCALENDAR
VERSION:2.0
PRODID:-//Tops México los Mejores Abogados - ECPv6.15.17.1//NONSGML v1.0//EN
CALSCALE:GREGORIAN
METHOD:PUBLISH
X-WR-CALNAME:Tops México los Mejores Abogados
X-ORIGINAL-URL:https://topslosmejoresabogados.com
X-WR-CALDESC:Eventos para Tops México los Mejores Abogados
REFRESH-INTERVAL;VALUE=DURATION:PT1H
X-Robots-Tag:noindex
X-PUBLISHED-TTL:PT1H
BEGIN:VTIMEZONE
TZID:America/Mexico_City
BEGIN:DAYLIGHT
TZOFFSETFROM:-0600
TZOFFSETTO:-0500
TZNAME:CDT
DTSTART:20200405T080000
END:DAYLIGHT
BEGIN:STANDARD
TZOFFSETFROM:-0500
TZOFFSETTO:-0600
TZNAME:CST
DTSTART:20201025T070000
END:STANDARD
BEGIN:DAYLIGHT
TZOFFSETFROM:-0600
TZOFFSETTO:-0500
TZNAME:CDT
DTSTART:20210404T080000
END:DAYLIGHT
BEGIN:STANDARD
TZOFFSETFROM:-0500
TZOFFSETTO:-0600
TZNAME:CST
DTSTART:20211031T070000
END:STANDARD
BEGIN:DAYLIGHT
TZOFFSETFROM:-0600
TZOFFSETTO:-0500
TZNAME:CDT
DTSTART:20220403T080000
END:DAYLIGHT
BEGIN:STANDARD
TZOFFSETFROM:-0500
TZOFFSETTO:-0600
TZNAME:CST
DTSTART:20221030T070000
END:STANDARD
END:VTIMEZONE
BEGIN:VEVENT
DTSTART;TZID=America/Mexico_City:20210426T080000
DTEND;TZID=America/Mexico_City:20211020T170000
DTSTAMP:20260420T015643
CREATED:20210412T221959Z
LAST-MODIFIED:20210412T222209Z
UID:10984-1619424000-1634749200@topslosmejoresabogados.com
SUMMARY:Juicios Constitucionales
DESCRIPTION:Área: Derecho\n\n\nCoordinadores:  OSMAR ARMANDO CRUZ QUIROZ\,   RODRIGO BERNARDO DIEZ GARGARI \nInicia: 26-abril-2021\nTermina: 20-octubre-2021\nHorario: Lunes de 18:00 a 21:00 h. y Miércoles de 18:00 a 21:00 h.\nMódulos a cursar: 3\nHoras: 135\nCosto de inscripción: $8\,900.00 pesos M.N\nCosto por módulo: $13\,900.00 pesos M.N\nNotas: LAS SESIONES SE LLEVARAN A CABO CON EL USO DE LA HERRAMIENTA ZOOM.
URL:https://topslosmejoresabogados.com/eventos/juicios-constitucionales/
CATEGORIES:ONLINE
ATTACH;FMTTYPE=image/png:https://topslosmejoresabogados.com/wp-content/uploads/2021/04/evento-4.png
END:VEVENT
BEGIN:VEVENT
DTSTART;TZID=America/Mexico_City:20210503T080000
DTEND;TZID=America/Mexico_City:20211018T170000
DTSTAMP:20260420T015643
CREATED:20210412T220035Z
LAST-MODIFIED:20210412T220112Z
UID:10974-1620028800-1634576400@topslosmejoresabogados.com
SUMMARY:Mecanismos alternativos de solución de controversias Masc (versión en línea)
DESCRIPTION:Área: Derecho\n\n\nCoordinador:  CAROLINA CASTELLANOS LOPEZ \nInicia: 03-mayo-2021\nTermina: 18-octubre-2021\nHorario: Lunes de 18:00 a 21:00 h. y Miércoles de 18:00 a 21:00 h.\nMódulos a cursar: 6\nHoras: 126\nCosto de inscripción: $9\,900.00 pesos M.N\nCosto por módulo: $7\,900.00 pesos M.N\nNotas: LAS SESIONES SE LLEVARAN A CABO CON EL USO DE LA HERRAMIENTA ZOOM
URL:https://topslosmejoresabogados.com/eventos/mecanismos-alternativos-de-solucion-de-controversias-masc-version-en-linea/
CATEGORIES:ONLINE
ATTACH;FMTTYPE=image/jpeg:https://topslosmejoresabogados.com/wp-content/uploads/2021/04/evento-1.jpg
END:VEVENT
BEGIN:VEVENT
DTSTART;TZID=America/Mexico_City:20210518T080000
DTEND;TZID=America/Mexico_City:20211021T170000
DTSTAMP:20260420T015643
CREATED:20210225T215652Z
LAST-MODIFIED:20210225T215652Z
UID:9335-1621324800-1634835600@topslosmejoresabogados.com
SUMMARY:Diplomado en "Comercio exterior y operación aduanera"
DESCRIPTION:Área: Derecho\nCoordinador:  GERARDO ARISTEO MARTIN JARAMILLO VAZQUEZ \nInicia: 18-mayo-2021\nTermina: 21-octubre-2021\nHorario: Martes de 18:00 a 21:00 h. y Jueves de 18:00 a 21:00 h.\nMódulos a cursar: 4\nHoras: 120\nCosto de inscripción: $9\,900.00 pesos M.N\nCosto por módulo: $10\,600.00 pesos M.N\nNotas: LAS SESIONES SE LLEVARAN A CABO CON EL USO DE LA HERRAMIENTA ZOOM.
URL:https://topslosmejoresabogados.com/eventos/diplomado-en-comercio-exterior-y-operacion-aduanera/
CATEGORIES:ONLINE
ATTACH;FMTTYPE=image/png:https://topslosmejoresabogados.com/wp-content/uploads/2021/02/evento-15.png
END:VEVENT
BEGIN:VEVENT
DTSTART;TZID=America/Mexico_City:20210518T080000
DTEND;TZID=America/Mexico_City:20211021T170000
DTSTAMP:20260420T015643
CREATED:20210412T224622Z
LAST-MODIFIED:20210412T224622Z
UID:11003-1621324800-1634835600@topslosmejoresabogados.com
SUMMARY:Comercio exterior y operación aduanera
DESCRIPTION:Área: Derecho\n\n\nCoordinador:  GERARDO ARISTEO MARTIN JARAMILLO VAZQUEZ \nInicia: 18-mayo-2021\nTermina: 21-octubre-2021\nHorario: Martes de 18:00 a 21:00 h. y Jueves de 18:00 a 21:00 h.\nMódulos a cursar: 4\nHoras: 120\nCosto de inscripción: $9\,900.00 pesos M.N\nCosto por módulo: $10\,600.00 pesos M.N\nNotas: LAS SESIONES SE LLEVARAN A CABO CON EL USO DE LA HERRAMIENTA ZOOM.
URL:https://topslosmejoresabogados.com/eventos/comercio-exterior-y-operacion-aduanera/
CATEGORIES:ONLINE
ATTACH;FMTTYPE=image/png:https://topslosmejoresabogados.com/wp-content/uploads/2021/04/evento-10.png
END:VEVENT
BEGIN:VEVENT
DTSTART;TZID=America/Mexico_City:20210525T080000
DTEND;TZID=America/Mexico_City:20211123T170000
DTSTAMP:20260420T015643
CREATED:20210412T224912Z
LAST-MODIFIED:20210412T224912Z
UID:11006-1621929600-1637686800@topslosmejoresabogados.com
SUMMARY:Competencia económica
DESCRIPTION:Área: Economía\n\n\nCoordinador:  CARLOS MENA LABARTHE \nInicia: 25-mayo-2021\nTermina: 23-noviembre-2021\nHorario: Martes de 18:00 a 21:00 h. y Jueves de 18:00 a 21:00 h.\nMódulos a cursar: 3\nHoras: 126\nCosto de inscripción: $9\,900.00 pesos M.N\nCosto por módulo: $14\,000.00 pesos M.N\nNotas: LAS SESIONES SE LLEVARAN A CABO CON EL USO DE LA HERRAMIENTA ZOOM.
URL:https://topslosmejoresabogados.com/eventos/competencia-economica/
CATEGORIES:ONLINE
ATTACH;FMTTYPE=image/png:https://topslosmejoresabogados.com/wp-content/uploads/2021/04/evento-11.png
END:VEVENT
BEGIN:VEVENT
DTSTART;VALUE=DATE:20251102
DTEND;VALUE=DATE:20251103
DTSTAMP:20260420T015643
CREATED:20251106T161153Z
LAST-MODIFIED:20251106T161153Z
UID:26611-1762041600-1762127999@topslosmejoresabogados.com
SUMMARY:Cumpleaños del Lic. Adán Ambriz
DESCRIPTION:
URL:https://topslosmejoresabogados.com/eventos/cumpleanos-del-lic-adan-ambriz/
END:VEVENT
BEGIN:VEVENT
DTSTART;VALUE=DATE:20251106
DTEND;VALUE=DATE:20251107
DTSTAMP:20260420T015643
CREATED:20251106T162343Z
LAST-MODIFIED:20251106T162343Z
UID:26637-1762387200-1762473599@topslosmejoresabogados.com
SUMMARY:Aniversario de IBSOLUTIONS GROUP
DESCRIPTION:
URL:https://topslosmejoresabogados.com/eventos/aniversario-de-ibsolutions-group/
END:VEVENT
BEGIN:VEVENT
DTSTART;VALUE=DATE:20251108
DTEND;VALUE=DATE:20251109
DTSTAMP:20260420T015643
CREATED:20251106T161455Z
LAST-MODIFIED:20251106T161455Z
UID:26625-1762560000-1762646399@topslosmejoresabogados.com
SUMMARY:Cumpleaños del Mtro. Victor Hugo Zapien López
DESCRIPTION:
URL:https://topslosmejoresabogados.com/eventos/cumpleanos-del-mtro-victor-hugo-zapien-lopez/
END:VEVENT
BEGIN:VEVENT
DTSTART;VALUE=DATE:20251111
DTEND;VALUE=DATE:20251112
DTSTAMP:20260420T015643
CREATED:20251106T165316Z
LAST-MODIFIED:20251106T165316Z
UID:26646-1762819200-1762905599@topslosmejoresabogados.com
SUMMARY:Aniversario de la firma De la Rosa Abogados
DESCRIPTION:
URL:https://topslosmejoresabogados.com/eventos/aniversario-de-la-firma-de-la-rosa-abogados/
END:VEVENT
BEGIN:VEVENT
DTSTART;VALUE=DATE:20251111
DTEND;VALUE=DATE:20251112
DTSTAMP:20260420T015643
CREATED:20251106T165425Z
LAST-MODIFIED:20251106T165425Z
UID:26663-1762819200-1762905599@topslosmejoresabogados.com
SUMMARY:Cumpleaños de Karla Lucía Aguilar Ávila
DESCRIPTION:
URL:https://topslosmejoresabogados.com/eventos/cumpleanos-de-karla-lucia-aguilar-avila/
END:VEVENT
BEGIN:VEVENT
DTSTART;TZID=America/Mexico_City:20251111T080000
DTEND;TZID=America/Mexico_City:20251111T170000
DTSTAMP:20260420T015643
CREATED:20251106T165650Z
LAST-MODIFIED:20251106T165650Z
UID:26666-1762848000-1762880400@topslosmejoresabogados.com
SUMMARY:Cumpleaños del Mtro. Ricardo Zinser Cruz
DESCRIPTION:
URL:https://topslosmejoresabogados.com/eventos/cumpleanos-del-mtro-ricardo-zinser-cruz/
END:VEVENT
BEGIN:VEVENT
DTSTART;TZID=America/Mexico_City:20251112T080000
DTEND;TZID=America/Mexico_City:20251112T170000
DTSTAMP:20260420T015643
CREATED:20251106T165903Z
LAST-MODIFIED:20251106T165903Z
UID:26668-1762934400-1762966800@topslosmejoresabogados.com
SUMMARY:Cumpleaños del Lic. Francisco Javier Patiño Pérez
DESCRIPTION:
URL:https://topslosmejoresabogados.com/eventos/cumpleanos-del-lic-francisco-javier-patino-perez/
END:VEVENT
BEGIN:VEVENT
DTSTART;TZID=America/Mexico_City:20251112T080000
DTEND;TZID=America/Mexico_City:20251112T170000
DTSTAMP:20260420T015643
CREATED:20251106T170019Z
LAST-MODIFIED:20251106T170019Z
UID:26670-1762934400-1762966800@topslosmejoresabogados.com
SUMMARY:Cumpleaños de Carlos Guzmán Gutiérrez
DESCRIPTION:
URL:https://topslosmejoresabogados.com/eventos/cumpleanos-de-carlos-guzman-gutierrez/
END:VEVENT
BEGIN:VEVENT
DTSTART;TZID=America/Mexico_City:20251113T080000
DTEND;TZID=America/Mexico_City:20251113T170000
DTSTAMP:20260420T015643
CREATED:20251106T170052Z
LAST-MODIFIED:20251106T170052Z
UID:26672-1763020800-1763053200@topslosmejoresabogados.com
SUMMARY:Cumpleaños de la Lic. María de los Dolores Mendoza Martínez
DESCRIPTION:
URL:https://topslosmejoresabogados.com/eventos/cumpleanos-de-la-lic-maria-de-los-dolores-mendoza-martinez/
END:VEVENT
BEGIN:VEVENT
DTSTART;TZID=America/Mexico_City:20251115T080000
DTEND;TZID=America/Mexico_City:20251115T170000
DTSTAMP:20260420T015643
CREATED:20251106T170411Z
LAST-MODIFIED:20251106T170411Z
UID:26675-1763193600-1763226000@topslosmejoresabogados.com
SUMMARY:Cumpleaños del Lic. Ricardo Aguirre Marín
DESCRIPTION:
URL:https://topslosmejoresabogados.com/eventos/cumpleanos-del-lic-ricardo-aguirre-marin/
END:VEVENT
BEGIN:VEVENT
DTSTART;TZID=America/Mexico_City:20251116T080000
DTEND;TZID=America/Mexico_City:20251116T170000
DTSTAMP:20260420T015643
CREATED:20251106T170508Z
LAST-MODIFIED:20251106T170508Z
UID:26679-1763280000-1763312400@topslosmejoresabogados.com
SUMMARY:Cumpleaños del Mtro. Marcelo Flores Serna
DESCRIPTION:
URL:https://topslosmejoresabogados.com/eventos/cumpleanos-del-mtro-marcelo-flores-serna/
END:VEVENT
BEGIN:VEVENT
DTSTART;TZID=America/Mexico_City:20251119T080000
DTEND;TZID=America/Mexico_City:20251119T170000
DTSTAMP:20260420T015643
CREATED:20251106T170629Z
LAST-MODIFIED:20251106T170629Z
UID:26681-1763539200-1763571600@topslosmejoresabogados.com
SUMMARY:Cumpleaños del Lic. Rodrigo Macedo Gómez
DESCRIPTION:
URL:https://topslosmejoresabogados.com/eventos/cumpleanos-del-lic-rodrigo-macedo-gomez/
END:VEVENT
BEGIN:VEVENT
DTSTART;TZID=America/Mexico_City:20251121T080000
DTEND;TZID=America/Mexico_City:20251121T170000
DTSTAMP:20260420T015643
CREATED:20251106T170739Z
LAST-MODIFIED:20251106T170739Z
UID:26683-1763712000-1763744400@topslosmejoresabogados.com
SUMMARY:Cumpleaños del Lic. Bernardo Mendoza
DESCRIPTION:
URL:https://topslosmejoresabogados.com/eventos/cumpleanos-del-lic-bernardo-mendoza/
END:VEVENT
BEGIN:VEVENT
DTSTART;TZID=America/Mexico_City:20251121T080000
DTEND;TZID=America/Mexico_City:20251121T170000
DTSTAMP:20260420T015643
CREATED:20251106T170915Z
LAST-MODIFIED:20251106T170915Z
UID:26685-1763712000-1763744400@topslosmejoresabogados.com
SUMMARY:Cumpleaños del Lic. Yael Rivas
DESCRIPTION:
URL:https://topslosmejoresabogados.com/eventos/cumpleanos-del-lic-yael-rivas/
END:VEVENT
BEGIN:VEVENT
DTSTART;TZID=America/Mexico_City:20251122T080000
DTEND;TZID=America/Mexico_City:20251122T170000
DTSTAMP:20260420T015643
CREATED:20251106T171003Z
LAST-MODIFIED:20251106T171003Z
UID:26687-1763798400-1763830800@topslosmejoresabogados.com
SUMMARY:Cumpleaños del Mtro. Leonardo Abarca Jiménez
DESCRIPTION:
URL:https://topslosmejoresabogados.com/eventos/cumpleanos-del-mtro-leonardo-abarca-jimenez/
END:VEVENT
BEGIN:VEVENT
DTSTART;TZID=America/Mexico_City:20251129T080000
DTEND;TZID=America/Mexico_City:20251129T170000
DTSTAMP:20260420T015643
CREATED:20251106T171343Z
LAST-MODIFIED:20251106T171343Z
UID:26690-1764403200-1764435600@topslosmejoresabogados.com
SUMMARY:Cumpleaños de la Mtra. Stephanny Mendizábal González
DESCRIPTION:
URL:https://topslosmejoresabogados.com/eventos/cumpleanos-de-la-mtra-stephanny-mendizabal-gonzalez/
END:VEVENT
BEGIN:VEVENT
DTSTART;TZID=America/Mexico_City:20251129T080000
DTEND;TZID=America/Mexico_City:20251129T170000
DTSTAMP:20260420T015643
CREATED:20251106T171412Z
LAST-MODIFIED:20251106T171412Z
UID:26692-1764403200-1764435600@topslosmejoresabogados.com
SUMMARY:Cumpleaños del Lic. José Luis Colín Vega
DESCRIPTION:
URL:https://topslosmejoresabogados.com/eventos/cumpleanos-del-lic-jose-luis-colin-vega/
END:VEVENT
BEGIN:VEVENT
DTSTART;TZID=America/Mexico_City:20251129T080000
DTEND;TZID=America/Mexico_City:20251129T170000
DTSTAMP:20260420T015643
CREATED:20251106T171603Z
LAST-MODIFIED:20251106T171603Z
UID:26698-1764403200-1764435600@topslosmejoresabogados.com
SUMMARY:Cumpleaños del Lic. Valerio Rivero Salinas
DESCRIPTION:
URL:https://topslosmejoresabogados.com/eventos/cumpleanos-del-lic-valerio-rivero-salinas/
END:VEVENT
BEGIN:VEVENT
DTSTART;TZID=America/Mexico_City:20260101T000000
DTEND;TZID=America/Mexico_City:20260101T000000
DTSTAMP:20260420T015643
CREATED:20260108T172056Z
LAST-MODIFIED:20260108T172056Z
UID:27525-1767225600-1767225600@topslosmejoresabogados.com
SUMMARY:Aniversario Flores Serna & Asociados
DESCRIPTION:
URL:https://topslosmejoresabogados.com/eventos/aniversario-flores-serna-asociados-2/
CATEGORIES:ONLINE
END:VEVENT
BEGIN:VEVENT
DTSTART;VALUE=DATE:20260101
DTEND;VALUE=DATE:20260102
DTSTAMP:20260420T015643
CREATED:20260108T164719Z
LAST-MODIFIED:20260108T164719Z
UID:27521-1767225600-1767311999@topslosmejoresabogados.com
SUMMARY:Aniversario Flores Serna & Asociados
DESCRIPTION:Aniversario Flores Serna & Asociados
URL:https://topslosmejoresabogados.com/eventos/aniversario-flores-serna-asociados/
END:VEVENT
BEGIN:VEVENT
DTSTART;TZID=America/Mexico_City:20260102T000000
DTEND;TZID=America/Mexico_City:20260102T000000
DTSTAMP:20260420T015643
CREATED:20260108T172216Z
LAST-MODIFIED:20260108T172216Z
UID:27560-1767312000-1767312000@topslosmejoresabogados.com
SUMMARY:Cumpleaños Lic. Sergio Arturo Ramírez ( De RPDM Abogados)
DESCRIPTION:
URL:https://topslosmejoresabogados.com/eventos/cumpleanos-lic-sergio-arturo-ramirez-de-rpdm-abogados/
CATEGORIES:ONLINE
END:VEVENT
BEGIN:VEVENT
DTSTART;TZID=America/Mexico_City:20260102T000000
DTEND;TZID=America/Mexico_City:20260102T000000
DTSTAMP:20260420T015643
CREATED:20260108T172216Z
LAST-MODIFIED:20260108T172216Z
UID:27561-1767312000-1767312000@topslosmejoresabogados.com
SUMMARY:Cumpleaños Alejandro Burgueño Sánchez (Tavares & Tavares)
DESCRIPTION:
URL:https://topslosmejoresabogados.com/eventos/cumpleanos-alejandro-burgueno-sanchez-tavares-tavares/
CATEGORIES:ONLINE
END:VEVENT
BEGIN:VEVENT
DTSTART;TZID=America/Mexico_City:20260104T000000
DTEND;TZID=America/Mexico_City:20260104T000000
DTSTAMP:20260420T015643
CREATED:20260108T180359Z
LAST-MODIFIED:20260108T180359Z
UID:27596-1767484800-1767484800@topslosmejoresabogados.com
SUMMARY:Aniversario Firma Oléa\, Maqueo\, Giménez
DESCRIPTION:
URL:https://topslosmejoresabogados.com/eventos/aniversario-firma-olea-maqueo-gimenez/
CATEGORIES:ONLINE
END:VEVENT
BEGIN:VEVENT
DTSTART;TZID=America/Mexico_City:20260105T000000
DTEND;TZID=America/Mexico_City:20260105T000000
DTSTAMP:20260420T015643
CREATED:20260108T180958Z
LAST-MODIFIED:20260108T180958Z
UID:27611-1767571200-1767571200@topslosmejoresabogados.com
SUMMARY:Aniversario Gaytán Legal
DESCRIPTION:
URL:https://topslosmejoresabogados.com/eventos/aniversario-gaytan-legal/
CATEGORIES:ONLINE
END:VEVENT
BEGIN:VEVENT
DTSTART;TZID=America/Mexico_City:20260106T000000
DTEND;TZID=America/Mexico_City:20260106T000000
DTSTAMP:20260420T015643
CREATED:20260108T185526Z
LAST-MODIFIED:20260108T185526Z
UID:27639-1767657600-1767657600@topslosmejoresabogados.com
SUMMARY:Aniversario Campuzano Abogados
DESCRIPTION:
URL:https://topslosmejoresabogados.com/eventos/aniversario-campuzano-abogados/
CATEGORIES:ONLINE
END:VEVENT
END:VCALENDAR